BEGIN:VCALENDAR
VERSION:2.0
BEGIN:VEVENT
URL:https://cursosonline.fotocasa.es/cursos/llamadas-de-captacio--n-adaptada-a-la-normativa-actual--guion-y-objeciones-1470-1348?edicion=1538
DTSTART:20260505T100000
DTEND:20260505T110000
SUMMARY:Fotocasa Pro Academy  - Llamadas de captación adaptada a la normativa actual: guion y objeciones 
DESCRIPTION:Llamadas de captación adaptada a la normativa actual: guion y objeciones\n\nhttps://cursosonline.fotocasa.es/cursos/llamadas-de-captacio--n-adaptada-a-la-normativa-actual--guion-y-objeciones-1470-1348?edicion=1538
LOCATION:
END:VEVENT
END:VCALENDAR