BEGIN:VCALENDAR
VERSION:2.0
BEGIN:VEVENT
URL:https://cursosonline.fotocasa.es/cursos/nuevo---como-ser-el-unico-con-el-que-el-propietario-quiera-trabajar--el-privilegio-de-la-exclusiva-1349?edicion=1539
DTSTART:20260506T100000
DTEND:20260506T110000
SUMMARY:Fotocasa Pro Academy  - NUEVO - Cómo ser el único con el que el propietario quiera trabajar: el privilegio de la exclusiva 
DESCRIPTION:NUEVO - Cómo ser el único con el que el propietario quiera trabajar: el privilegio de la exclusiva\n\nhttps://cursosonline.fotocasa.es/cursos/nuevo---como-ser-el-unico-con-el-que-el-propietario-quiera-trabajar--el-privilegio-de-la-exclusiva-1349?edicion=1539
LOCATION:
END:VEVENT
END:VCALENDAR