BEGIN:VCALENDAR
VERSION:2.0
BEGIN:VEVENT
URL:https://cursosonline.fotocasa.es/cursos/nuevo---crea-planos-animados-con-ia-para-tus-anuncios-1472-1350?edicion=1540
DTSTART:20260507T100000
DTEND:20260507T110000
SUMMARY:Fotocasa Pro Academy  - NUEVO - Crea planos animados con IA para tus anuncios 
DESCRIPTION:NUEVO - Crea planos animados con IA para tus anuncios\n\nhttps://cursosonline.fotocasa.es/cursos/nuevo---crea-planos-animados-con-ia-para-tus-anuncios-1472-1350?edicion=1540
LOCATION:
END:VEVENT
END:VCALENDAR