BEGIN:VCALENDAR
VERSION:2.0
BEGIN:VEVENT
URL:https://cursosonline.fotocasa.es/cursos/nuevo--analisis-de-mercado-pro--conviertete-en-el-referente-de-tu-barrio-con-datavenues-1473-1351?edicion=1541
DTSTART:20260508T100000
DTEND:20260508T110000
SUMMARY:Fotocasa Pro Academy  - NUEVO- Análisis de mercado Pro: Conviértete en el referente de tu barrio con DataVenues 
DESCRIPTION:NUEVO- Análisis de mercado Pro: Conviértete en el referente de tu barrio con DataVenues\n\nhttps://cursosonline.fotocasa.es/cursos/nuevo--analisis-de-mercado-pro--conviertete-en-el-referente-de-tu-barrio-con-datavenues-1473-1351?edicion=1541
LOCATION:
END:VEVENT
END:VCALENDAR