BEGIN:VCALENDAR
VERSION:2.0
BEGIN:VEVENT
URL:https://cursosonline.fotocasa.es/cursos/nuevo---como-crear-contenido-viral-en-instagram-1474-1352?edicion=1542
DTSTART:20260512T100000
DTEND:20260512T110000
SUMMARY:Fotocasa Pro Academy  - NUEVO - Cómo crear contenido viral en Instagram 
DESCRIPTION:NUEVO - Cómo crear contenido viral en Instagram\n\nhttps://cursosonline.fotocasa.es/cursos/nuevo---como-crear-contenido-viral-en-instagram-1474-1352?edicion=1542
LOCATION:
END:VEVENT
END:VCALENDAR