BEGIN:VCALENDAR
VERSION:2.0
BEGIN:VEVENT
URL:https://cursosonline.fotocasa.es/cursos/como-presentar-los-servicios-de-tu-agencia-a-los-vendedores-1475-1353?edicion=1543
DTSTART:20260513T100000
DTEND:20260513T110000
SUMMARY:Fotocasa Pro Academy  - Cómo presentar los servicios de tu agencia a los vendedores 
DESCRIPTION:Cómo presentar los servicios de tu agencia a los vendedores\n\nhttps://cursosonline.fotocasa.es/cursos/como-presentar-los-servicios-de-tu-agencia-a-los-vendedores-1475-1353?edicion=1543
LOCATION:
END:VEVENT
END:VCALENDAR