BEGIN:VCALENDAR
VERSION:2.0
BEGIN:VEVENT
URL:https://cursosonline.fotocasa.es/cursos/nuevo----del-plano-a-la-escritura--riesgos-y-soluciones-en-la-venta-de-vivienda-nueva-1476-1354?edicion=1544
DTSTART:20260514T100000
DTEND:20260514T110000
SUMMARY:Fotocasa Pro Academy  - NUEVO  - Del plano a la escritura: riesgos y soluciones en la venta de vivienda nueva 
DESCRIPTION:NUEVO  - Del plano a la escritura: riesgos y soluciones en la venta de vivienda nueva\n\ncursosonline.fotocasa.es/cursos/nuevo----del-plano-a-la-escritura--riesgos-y-soluciones-en-la-venta-de-vivienda-nueva-1476-1354?edicion=1544
LOCATION:
END:VEVENT
END:VCALENDAR