BEGIN:VCALENDAR
VERSION:2.0
BEGIN:VEVENT
URL:https://cursosonline.fotocasa.es/cursos/como-salvar-las-principales-objeciones-de-la-exclusiva-1477-1355?edicion=1545
DTSTART:20260519T100000
DTEND:20260519T110000
SUMMARY:Fotocasa Pro Academy  - Cómo salvar las principales objeciones de la exclusiva 
DESCRIPTION:Cómo salvar las principales objeciones de la exclusiva\n\nhttps://cursosonline.fotocasa.es/cursos/como-salvar-las-principales-objeciones-de-la-exclusiva-1477-1355?edicion=1545
LOCATION:
END:VEVENT
END:VCALENDAR