BEGIN:VCALENDAR
VERSION:2.0
BEGIN:VEVENT
URL:https://cursosonline.fotocasa.es/cursos/nuevo----los-principales-problemas-relacionados-con-la-comunidad-de-vecinos-al-vender-un-inmueble-1356?edicion=1546
DTSTART:20260520T100000
DTEND:20260520T110000
SUMMARY:Fotocasa Pro Academy  - NUEVO  - Los principales problemas relacionados con la comunidad de vecinos al vender un inmueble 
DESCRIPTION:NUEVO  - Los principales problemas relacionados con la comunidad de vecinos al vender un inmueble\n\nhttps://cursosonline.fotocasa.es/cursos/nuevo----los-principales-problemas-relacionados-con-la-comunidad-de-vecinos-al-vender-un-inmueble-1356?edicion=1546
LOCATION:
END:VEVENT
END:VCALENDAR