BEGIN:VCALENDAR
VERSION:2.0
BEGIN:VEVENT
URL:https://cursosonline.fotocasa.es/cursos/nuevo---exenciones-de-iva-en-operaciones-inmobiliarias-1479-1357?edicion=1547
DTSTART:20260521T100000
DTEND:20260521T110000
SUMMARY:Fotocasa Pro Academy  - NUEVO - Exenciones de IVA en operaciones inmobiliarias 
DESCRIPTION:NUEVO - Exenciones de IVA en operaciones inmobiliarias\n\nhttps://cursosonline.fotocasa.es/cursos/nuevo---exenciones-de-iva-en-operaciones-inmobiliarias-1479-1357?edicion=1547
LOCATION:
END:VEVENT
END:VCALENDAR