BEGIN:VCALENDAR
VERSION:2.0
BEGIN:VEVENT
URL:https://cursosonline.fotocasa.es/cursos/capta-mas-vendedores-con-un-crm---inmoweb-1480-1358?edicion=1548
DTSTART:20260522T100000
DTEND:20260522T110000
SUMMARY:Fotocasa Pro Academy  - Capta más vendedores con un CRM - Inmoweb 
DESCRIPTION:Capta más vendedores con un CRM - Inmoweb\n\nhttps://cursosonline.fotocasa.es/cursos/capta-mas-vendedores-con-un-crm---inmoweb-1480-1358?edicion=1548
LOCATION:
END:VEVENT
END:VCALENDAR