BEGIN:VCALENDAR
VERSION:2.0
BEGIN:VEVENT
URL:https://cursosonline.fotocasa.es/cursos/nuevo---primeros-pasos-en-el-sector-del-lujo-1481-1359?edicion=1549
DTSTART:20260526T100000
DTEND:20260526T110000
SUMMARY:Fotocasa Pro Academy  - NUEVO - Primeros pasos en el sector del lujo 
DESCRIPTION:NUEVO - Primeros pasos en el sector del lujo\n\nhttps://cursosonline.fotocasa.es/cursos/nuevo---primeros-pasos-en-el-sector-del-lujo-1481-1359?edicion=1549
LOCATION:
END:VEVENT
END:VCALENDAR