BEGIN:VCALENDAR
VERSION:2.0
BEGIN:VEVENT
URL:https://cursosonline.fotocasa.es/cursos/nuevo---5-acciones-clave-para-aumentar-tus-captaciones-de-verdad-1482-1360?edicion=1550
DTSTART:20260527T100000
DTEND:20260527T110000
SUMMARY:Fotocasa Pro Academy  - NUEVO - 5 acciones clave para aumentar tus captaciones de verdad 
DESCRIPTION:NUEVO - 5 acciones clave para aumentar tus captaciones de verdad\n\nhttps://cursosonline.fotocasa.es/cursos/nuevo---5-acciones-clave-para-aumentar-tus-captaciones-de-verdad-1482-1360?edicion=1550
LOCATION:
END:VEVENT
END:VCALENDAR